BEGIN:VCALENDAR
VERSION:2.0
PRODID:-//Jecomur - ECPv6.15.20//NONSGML v1.0//EN
CALSCALE:GREGORIAN
METHOD:PUBLISH
X-ORIGINAL-URL:https://jecomur.com
X-WR-CALDESC:Eventos para Jecomur
REFRESH-INTERVAL;VALUE=DURATION:PT1H
X-Robots-Tag:noindex
X-PUBLISHED-TTL:PT1H
BEGIN:VTIMEZONE
TZID:UTC
BEGIN:STANDARD
TZOFFSETFROM:+0000
TZOFFSETTO:+0000
TZNAME:UTC
DTSTART:20240101T000000
END:STANDARD
END:VTIMEZONE
BEGIN:VEVENT
DTSTART;TZID=UTC:20260208T000000
DTEND;TZID=UTC:20260208T143000
DTSTAMP:20260422T113310
CREATED:20251213T173954Z
LAST-MODIFIED:20260117T175203Z
UID:1269-1770508800-1770561000@jecomur.com
SUMMARY:VIII Cocido Solidario
DESCRIPTION:La Plaza del Romea volverá a convertirse este año en el escenario elegido por los integrantes de JECOMUR\, la Asociación de Jefes de Cocina de la Región de Murcia\, para celebrar una nueva edición de su ya tradicional VIII Cocido Solidario\, un evento benéfico a favor de la asociación Azul en Acción. \nAzul en Acción desarrolla proyectos de intervención social en ámbitos tan esenciales como la sanidad\, la educación\, el apoyo al desarrollo y el empoderamiento de la mujer\, además de prestar especial atención a la infancia en situación de vulnerabilidad. \nComprar entrada
URL:https://jecomur.com/eventos/viii-cocido-solidario/
LOCATION:Plaza Julian Romea\, Murcia\, Plaza Julián Romea\, Murcia\, Murcia\, 30001\, Spain
CATEGORIES:Evento solidario
ATTACH;FMTTYPE=image/jpeg:https://jecomur.com/wp-content/uploads/2025/12/jecomur-eventos-murcia-cocido-solidario.jpeg
ORGANIZER;CN="Jecomur":MAILTO:asociacionjecomur@gmail.com
END:VEVENT
BEGIN:VEVENT
DTSTART;TZID=UTC:20251203T090000
DTEND;TZID=UTC:20251203T090000
DTSTAMP:20260422T113310
CREATED:20251202T173808Z
LAST-MODIFIED:20251202T174405Z
UID:1224-1764752400-1764752400@jecomur.com
SUMMARY:VI Marcha por el Día Internacional de las Personas con Discapacidad
DESCRIPTION:Cartel 3 de diciembre \nDe 09:00 a 10:15h: Venta de dorsales a 2€ \n10:30h: Comienzo de la marcha
URL:https://jecomur.com/eventos/vi-marcha-por-el-dia-internacional-de-las-personas-con-discapacidad/
LOCATION:centro deportivo aceña mazarron\, C. Santo Tomás\, s/n\,\, Mazarrón\, Murcia\, Murcia\, 30870\, Spain
CATEGORIES:Evento solidario
ATTACH;FMTTYPE=image/png:https://jecomur.com/wp-content/uploads/2025/12/Captura-de-pantalla-2025-12-02-a-las-18.36.55.png
ORGANIZER;CN="Jecomur":MAILTO:asociacionjecomur@gmail.com
END:VEVENT
BEGIN:VEVENT
DTSTART;TZID=UTC:20250803T203000
DTEND;TZID=UTC:20250803T233000
DTSTAMP:20260422T113310
CREATED:20251018T115657Z
LAST-MODIFIED:20251018T121310Z
UID:679-1754253000-1754263800@jecomur.com
SUMMARY:Encuentro de Verano
DESCRIPTION:Cena de verano para socios y sus parejas donde realizar un encuentro de familiarización y convivencia alrededor de una mesa.
URL:https://jecomur.com/eventos/encuentro-de-verano-de-socios/
LOCATION:Murcia
CATEGORIES:Cenas
ATTACH;FMTTYPE=image/jpeg:https://jecomur.com/wp-content/uploads/2025/10/verano-jecomur.jpg
ORGANIZER;CN="Jecomur":MAILTO:asociacionjecomur@gmail.com
END:VEVENT
END:VCALENDAR